BEGIN:VCALENDAR
VERSION:2.0
PRODID:-//Program in Physical Therapy//NONSGML Events//EN
CALSCALE:GREGORIAN
X-ORIGINAL-URL:https://pt.wustl.edu/events/
X-WR-CALDESC:Program in Physical Therapy - Events
BEGIN:VEVENT
UID:20220916T2205Z-1663365953.2523-EO-21733-1@172.23.128.18
STATUS:CONFIRMED
DTSTAMP:20260417T050206Z
CREATED:20220916T202420Z
LAST-MODIFIED:20220916T202420Z
DTSTART;TZID=America/Chicago:20221022T080000
DTEND;TZID=America/Chicago:20221022T150000
SUMMARY: 2022 DPT Open House
DESCRIPTION: Please join us to explore our Doctor of Physical Therapy progr
 am to see if Physical Therapy is the career for you. This event will provid
 e you with information on prerequisites\, application process\, our curricu
 lum and the Human Movement System approach. Meet our faculty\, current stud
 ents and staff and see our state-of-the art facilities. Let us […]
X-ALT-DESC;FMTTYPE=text/html: <p>Please join us to explore our Doctor of Ph
 ysical Therapy program to see if Physical Therapy is the career for you. Th
 is event will provide you with information on prerequisites\, application p
 rocess\, our curriculum and the Human Movement System approach. Meet our fa
 culty\, current students and staff and see our state-of-the art facilities.
  Let us show you how we are advancing human health through movement.</p><p>
 You may attend this event either <strong>on-campus</strong> or <strong>virt
 ually</strong>. Due to limited seating on-campus\, only one guest per regis
 trant allowed and face masks are required upon entry. This event fills up q
 uickly. Reserve your seat today!</p><p>To Register\, <a href="http://events
 .r20.constantcontact.com/register/event?oeidk=a07ejdrxnkf6c181dff&llr=9wyge
 qyab">CLICK HERE</a></p><p align="center"><b>Tentative Schedule</b></p><p>8
 :00 am          Check-in/Registration</p><p>8:30 am          Welcome from D
 rs. Gammon Earhart\, PT\, PhD\, Associate Dean and Director\; Steve Ambler\
 ,<br />                       PT\, DPT\, PhD\, MPH\, Division Director\, Pr
 ofessional Education\; and Tammy Burlis\, PT\, DPT\,<br />                 
       CCS\, Associate Director of Professional Curriculum and Director of C
 linical Education and<br />                       Julian Magee\, PT\, DPT\,
  ATC\, Assistant Director of Equity and Inclusion</p><p>9:30 am          Br
 eak</p><p>9:45 am          Financial Aid – Bridgett O’Neal\, Director of Fi
 nancial Aid</p><p>10:25 am        Application Process - Sarah Rands\, Manag
 er of Admissions</p><p>10:45 am        Last Call and Introduction to Small 
 Group Leaders - Dr. Gammon Earhart</p><p>10:55 am        Break</p><p>11:05 
 am        Small Groups with Faculty and Current Students</p><p>12:05 pm    
     Optional Break prior to Program Facilities/Medical Campus Tour</p><p>1:
 05 pm           Pick up Grab and Go snack from lobby to take with you prior
  to leaving for the day.</p>
CATEGORIES:DPT Event
LOCATION:4444 Forest Park Ave\, Room 1235
GEO:38.637173;-90.257115
ORGANIZER;CN="Jennifer":MAILTO:jennifer.brown@wustl.edu
URL;VALUE=URI:https://pt.wustl.edu/events/event/2022-dpt-open-house/
END:VEVENT
BEGIN:VTIMEZONE
TZID:America/Chicago
BEGIN:DAYLIGHT
TZOFFSETFROM:-0600
TZOFFSETTO:-0500
DTSTART:20220313T080000
TZNAME:CDT
END:DAYLIGHT
END:VTIMEZONE
END:VCALENDAR
