BEGIN:VCALENDAR
VERSION:2.0
PRODID:-//Program in Physical Therapy//NONSGML Events//EN
CALSCALE:GREGORIAN
X-ORIGINAL-URL:https://pt.wustl.edu/events/
X-WR-CALDESC:Program in Physical Therapy - Events
BEGIN:VEVENT
UID:20180328T1317Z-1522243061.9793-EO-6460-1@172.21.70.41
STATUS:CONFIRMED
DTSTAMP:20260417T050154Z
CREATED:20180328T125524Z
LAST-MODIFIED:20180328T125627Z
DTSTART;TZID=America/Chicago:20180408T130000
DTEND;TZID=America/Chicago:20180408T150000
SUMMARY: WUPT Games
DESCRIPTION: WUPT Games April 8th 1-3PM Tower Grove Park Visit the facebook
  event for more information: https://www.facebook.com/events/35631433485162
 5/
X-ALT-DESC;FMTTYPE=text/html: <p><strong>WUPT Games</strong><br />April 8<s
 up>th </sup>1-3PM<br />Tower Grove Park<br />Visit the facebook event for m
 ore information: <a href="https://www.facebook.com/events/356314334851625/"
 >https://www.facebook.com/events/356314334851625/</a></p>
ORGANIZER;CN="Cory":MAILTO:brantc@wustl.edu
URL;VALUE=URI:https://pt.wustl.edu/events/event/6460/
END:VEVENT
BEGIN:VTIMEZONE
TZID:America/Chicago
BEGIN:DAYLIGHT
TZOFFSETFROM:-0600
TZOFFSETTO:-0500
DTSTART:20180311T080000
TZNAME:CDT
END:DAYLIGHT
END:VTIMEZONE
END:VCALENDAR
