BEGIN:VCALENDAR
VERSION:2.0
PRODID:-//Program in Physical Therapy//NONSGML Events//EN
CALSCALE:GREGORIAN
X-ORIGINAL-URL:https://pt.wustl.edu/events/
X-WR-CALDESC:Program in Physical Therapy - Events
BEGIN:VEVENT
UID:20171024T1849Z-1508870964.8142-EO-5262-1@172.20.65.30
STATUS:CONFIRMED
DTSTAMP:20260424T230339Z
CREATED:20171024T184637Z
LAST-MODIFIED:20171024T184637Z
DTSTART;TZID=America/Chicago:20171110T160000
DTEND;TZID=America/Chicago:20171110T160000
SUMMARY: 75th Anniversary Career Panel Featuring WUPT Alumni
DESCRIPTION: Steve Ambler PT\, DPT\, PhD\, CPH\, MPH 2005 DPT Graduate Coor
 dinating Faculty USF-UWF DPT Educational Partnership Associate Professor\, 
 Physical Therapy & Rehabilitation Sciences School of Physical Therapy & Reh
 abilitation Services Morsani College of Medicine University of South Florid
 a Steve Cassabaum\, MSPT\, DPT 1989 Bachelors & Masters PT Graduate & 2009 
 PPDPT Graduate President and Founder\, […]
X-ALT-DESC;FMTTYPE=text/html: <p><strong>Steve Ambler PT\, DPT\, PhD\, CPH\
 , MPH</strong><br />2005 DPT Graduate<br />Coordinating Faculty USF-UWF DPT
  Educational Partnership<br />Associate Professor\, Physical Therapy & Reha
 bilitation Sciences<br />School of Physical Therapy & Rehabilitation Servic
 es<br />Morsani College of Medicine<br />University of South Florida</p><p>
 <strong>Steve Cassabaum\, MSPT\, DPT</strong><br />1989 Bachelors & Masters
  PT Graduate & 2009 PPDPT Graduate<br />President and Founder\, 21st Centur
 y Rehab</p><p><strong>Edee Field-Fote\, PhD\, PT\, FAPTA</strong><br />1995
  Movement Science Program Graduate<br />Director\, Spinal Cord Injury Resea
 rch & The Hulse Spinal Cord Injury Laboratory<br />Professor\, Emory Univer
 sity School of Medicine\, Department of Rehabilitation Medicine<br />Profes
 sor\, Georgia Institute of Technology\, School of Biological Sciences</p>
LOCATION:4444 Forest Park Ave\, Room 1235
GEO:38.637173;-90.257115
ORGANIZER;CN="Cory":MAILTO:brantc@wustl.edu
URL;VALUE=URI:https://pt.wustl.edu/events/event/75th-anniversary-career-pan
 el-featuring-wupt-alumni/
END:VEVENT
BEGIN:VTIMEZONE
TZID:America/Chicago
BEGIN:STANDARD
TZOFFSETFROM:-0500
TZOFFSETTO:-0600
DTSTART:20171105T070000
TZNAME:CST
END:STANDARD
END:VTIMEZONE
END:VCALENDAR
