BEGIN:VCALENDAR
VERSION:2.0
PRODID:-//Program in Physical Therapy//NONSGML Events//EN
CALSCALE:GREGORIAN
X-ORIGINAL-URL:https://pt.wustl.edu/events/
X-WR-CALDESC:Program in Physical Therapy - Events
BEGIN:VEVENT
UID:20230809T1820Z-1691605226.156-EO-23125-1@172.23.128.18
STATUS:CONFIRMED
DTSTAMP:20260420T160054Z
CREATED:20230809T145448Z
LAST-MODIFIED:20230809T145448Z
DTSTART;TZID=America/Chicago:20230905T121000
DTEND;TZID=America/Chicago:20230905T130000
SUMMARY: A Somato-Cognitive Action Network in Primary Motor Cortex
DESCRIPTION: 2023 Research Seminar A Somato-Cognitive Action Network in Pri
 mary Motor Cortex Evan Gordon\, PhD Postdoctoral Research Associate Assista
 nt Professor\, Mallinckrodt Institute of Radiology\, WUSM
X-ALT-DESC;FMTTYPE=text/html: <p>2023 Research Seminar<br /><span class="S1
 PPyQ">A Somato-Cognitive Action Network in Primary Motor Cortex<br /></span
 ></p><p class="_04xlpA direction-ltr align-start para-style-body"><strong><
 span class="S1PPyQ">Evan Gordon\, PhD<br /></span></strong><span class="S1P
 PyQ" style="font-size: 1.125rem\;">Postdoctoral Research Associate<br />Ass
 istant Professor\, Mallinckrodt Institute of Radiology\, WUSM</span></p>
ORGANIZER;CN="Emily":MAILTO:laycob@wustl.edu
URL;VALUE=URI:https://pt.wustl.edu/events/event/a-somato-cognitive-action-n
 etwork-in-primary-motor-cortex/
END:VEVENT
BEGIN:VTIMEZONE
TZID:America/Chicago
BEGIN:DAYLIGHT
TZOFFSETFROM:-0600
TZOFFSETTO:-0500
DTSTART:20230312T080000
TZNAME:CDT
END:DAYLIGHT
END:VTIMEZONE
END:VCALENDAR
