BEGIN:VCALENDAR
VERSION:2.0
PRODID:-//Program in Physical Therapy//NONSGML Events//EN
CALSCALE:GREGORIAN
X-ORIGINAL-URL:https://pt.wustl.edu/events/
X-WR-CALDESC:Program in Physical Therapy - Events
BEGIN:VEVENT
UID:20180424T1856Z-1524596216.0797-EO-6738-1@172.21.70.41
STATUS:CONFIRMED
DTSTAMP:20260420T155653Z
CREATED:20180424T185027Z
LAST-MODIFIED:20180424T185027Z
DTSTART;TZID=America/Chicago:20180523T140000
DTEND;TZID=America/Chicago:20180523T140000
SUMMARY: Adam Bittel PhD Defense
DESCRIPTION: Adam Bittel PhD Defense Acute Effects of Resistance Exercise o
 n Post-prandial Metabolism in Men with Obesity and Prediabetes Reception im
 mediately following in 6th Floor Lounge For further Information: Contact Je
 nnifer Brown jennifer.brown@wustl.edu
X-ALT-DESC;FMTTYPE=text/html: <h2>Adam Bittel PhD Defense</h2><p><em>Acute 
 Effects of Resistance Exercise on Post-prandial Metabolism in Men with Obes
 ity and Prediabetes</em></p><p>Reception immediately following in 6th Floor
  Lounge</p><p>For further Information:<br />Contact Jennifer Brown<br />jen
 nifer.brown@wustl.edu</p>
LOCATION:4444 Forest Park Ave\, Room 1235
GEO:38.637173;-90.257115
ORGANIZER;CN="Cory":MAILTO:brantc@wustl.edu
URL;VALUE=URI:https://pt.wustl.edu/events/event/adam-bittel-phd-defense/
END:VEVENT
BEGIN:VTIMEZONE
TZID:America/Chicago
BEGIN:DAYLIGHT
TZOFFSETFROM:-0600
TZOFFSETTO:-0500
DTSTART:20180311T080000
TZNAME:CDT
END:DAYLIGHT
END:VTIMEZONE
END:VCALENDAR
