BEGIN:VCALENDAR
VERSION:2.0
PRODID:-//Program in Physical Therapy//NONSGML Events//EN
CALSCALE:GREGORIAN
X-ORIGINAL-URL:https://pt.wustl.edu/events/
X-WR-CALDESC:Program in Physical Therapy - Events
BEGIN:VEVENT
UID:20190430T1611Z-1556640712.4372-EO-8970-1@172.23.128.18
STATUS:CONFIRMED
DTSTAMP:20260420T130434Z
CREATED:20190430T155921Z
LAST-MODIFIED:20190430T160019Z
DTSTART;TZID=America/Chicago:20211002T110000
DTEND;TZID=America/Chicago:20211005T120000
SUMMARY: Advanced Course for the Lower Quarter
DESCRIPTION: Visit our MSI Course page for more information
X-ALT-DESC;FMTTYPE=text/html: <p><a href="https://pt.wustl.edu/education/mo
 vement-system-impairment-syndromes-courses/">Visit our MSI Course page for 
 more information</a></p>
CATEGORIES:Continuing Education Course
LOCATION:Washington University Program in Physical Therapy
GEO:38.637069;-90.257311
ORGANIZER;CN="Cory":MAILTO:brantc@wustl.edu
URL;VALUE=URI:https://pt.wustl.edu/events/event/advanced-course-for-the-low
 er-quarter-2/
END:VEVENT
BEGIN:VTIMEZONE
TZID:America/Chicago
BEGIN:DAYLIGHT
TZOFFSETFROM:-0600
TZOFFSETTO:-0500
DTSTART:20210314T080000
TZNAME:CDT
END:DAYLIGHT
END:VTIMEZONE
END:VCALENDAR
