BEGIN:VCALENDAR
VERSION:2.0
PRODID:-//Program in Physical Therapy//NONSGML Events//EN
CALSCALE:GREGORIAN
X-ORIGINAL-URL:https://pt.wustl.edu/events/
X-WR-CALDESC:Program in Physical Therapy - Events
BEGIN:VEVENT
UID:20190423T1807Z-1556042879.0632-EO-8895-1@172.23.128.19
STATUS:CONFIRMED
DTSTAMP:20260417T050144Z
CREATED:20190423T154432Z
LAST-MODIFIED:20190423T155327Z
DTSTART;VALUE=DATE:20191005
DTEND;VALUE=DATE:20191009
SUMMARY: Advanced Course for the Lower Quarter
DESCRIPTION: Visit our MSI Course page for more information
X-ALT-DESC;FMTTYPE=text/html: <p><a href="https://pt.wustl.edu/education/mo
 vement-system-impairment-syndromes-courses/">Visit our MSI Course page for 
 more information</a></p>
CATEGORIES:Continuing Education Course
LOCATION:Washington University Program in Physical Therapy
GEO:38.637069;-90.257311
ORGANIZER;CN="Cory":MAILTO:brantc@wustl.edu
URL;VALUE=URI:https://pt.wustl.edu/events/event/advanced-course-for-the-low
 er-quarter/
END:VEVENT
BEGIN:VTIMEZONE
TZID:America/Chicago
BEGIN:DAYLIGHT
TZOFFSETFROM:-0600
TZOFFSETTO:-0500
DTSTART:20190310T080000
TZNAME:CDT
END:DAYLIGHT
END:VTIMEZONE
END:VCALENDAR
