BEGIN:VCALENDAR
VERSION:2.0
PRODID:-//Program in Physical Therapy//NONSGML Events//EN
CALSCALE:GREGORIAN
X-ORIGINAL-URL:https://pt.wustl.edu/events/
X-WR-CALDESC:Program in Physical Therapy - Events
BEGIN:VEVENT
UID:20160701T1947Z-1467402467.6748-EO-1345-1@172.20.65.30
STATUS:CONFIRMED
DTSTAMP:20260424T230345Z
CREATED:20160606T211917Z
LAST-MODIFIED:20160713T181755Z
DTSTART;TZID=America/Chicago:20161001T080000
DTEND;TZID=America/Chicago:20161004T173000
SUMMARY: Advanced Movement Impairment Syndrome Course
DESCRIPTION: This course will be held October 1-4\, 2016. Enrollment for Ad
 vanced Movement System Impairment Syndromes (Upper Quarter) is full. Email 
 the Program in Physical Therapy to add your name to the waitlist. Read  abo
 ut the course schedule here.  Washington University reserved a block of roo
 ms at three hotels:  The Parkway Hotel\, Holiday Inn-Central West End\, and
  the Sheraton […]
X-ALT-DESC;FMTTYPE=text/html: <p>This course will be held October 1-4\, 201
 6.</p><p>Enrollment for Advanced Movement System Impairment Syndromes (Uppe
 r Quarter) is full. <a href="http://ptevents@wusm.wustl.edu">Email</a> the 
 Program in Physical Therapy to add your name to the waitlist.</p><p><a href
 ="https://pt.wustl.edu/app/uploads/2016/07/MSI_UQ16_Final.pdf">Read  about 
 the course schedule here.</a>  Washington University reserved a block of ro
 oms at three hotels:  <a href="http://bit.ly/1UM0UvE">The Parkway Hotel\,</
 a> <a href="https://www.hiexpress.com/redirect?path=hd&brandCode=ex&localeC
 ode=en&regionCode=1&hotelCode=stlln&_PMID=99801505&GPC=msi">Holiday Inn-Cen
 tral West End</a>\, and the <a href="https://www.starwoodmeeting.com/events
 /start.action?id=1606288044&key=12BAB39D">Sheraton Plaza Clayton</a>.</p>
CATEGORIES:Continuing Education Course
ORGANIZER;CN="Alisa":MAILTO:acooperstein@wustl.edu
URL;VALUE=URI:https://pt.wustl.edu/events/event/advanced-movement-impairmen
 t-syndrome-course-2/
END:VEVENT
BEGIN:VTIMEZONE
TZID:America/Chicago
BEGIN:DAYLIGHT
TZOFFSETFROM:-0600
TZOFFSETTO:-0500
DTSTART:20160313T080000
TZNAME:CDT
END:DAYLIGHT
END:VTIMEZONE
END:VCALENDAR
