BEGIN:VCALENDAR
VERSION:2.0
PRODID:-//Program in Physical Therapy//NONSGML Events//EN
CALSCALE:GREGORIAN
X-ORIGINAL-URL:https://pt.wustl.edu/events/
X-WR-CALDESC:Program in Physical Therapy - Events
BEGIN:VEVENT
UID:20210423T1657Z-1619197074.6506-EO-16651-1@172.23.128.19
STATUS:CONFIRMED
DTSTAMP:20260423T213611Z
CREATED:20210423T164540Z
LAST-MODIFIED:20210618T024650Z
DTSTART;TZID=America/Chicago:20210627T090000
DTEND;TZID=America/Chicago:20210627T123000
SUMMARY: Alumni Reunion 2021: MSI Update
DESCRIPTION: Mark your calendar and save the date! WUPT is hosting an MSI U
 pdate and Alumni Reunion!  Saturday June 26-27\, 2021 The MSI Update and Al
 umni Reunion will be a VIRTUAL event. We hope you can join us from the comf
 ort of your home- or home office!   Registration is now closed for this cou
 rse. Please note […]
X-ALT-DESC;FMTTYPE=text/html: <h3>Mark your calendar and save the date! WUP
 T is hosting an MSI Update and Alumni Reunion! </h3><h4><strong>Saturday Ju
 ne 26-27\, 2021</strong></h4><p><strong>The MSI Update and Alumni Reunion w
 ill be a VIRTUAL event. We hope you can join us from the comfort of your ho
 me- or home office!  </strong></p><p>Registration is now closed for this co
 urse.</p><p>Please note that this MSI Event is for WUPT alumni ONLY. </p><p
 ><strong>Is there a registration fee? </strong></p><p>     <em> Yes\, the r
 egistration fee is $100\, with a portion of registration fees going to DPT 
 student scholarships!<br /></em></p><p><strong>What kind of talks and infor
 mation will be presented? </strong></p><p><em>    This event will have two 
 tracks Musculoskeletal  and Neuromuscular. Updates related to pediatrics wi
 ll be included in the Neuromuscular track.  </em></p><ul><li><em>MSI Diagno
 sis Updates</em></li><li><em>Movement System diagnosis application</em></li
 ><li><em>Research updates</em></li></ul><p><strong>Will there be CEUs? </st
 rong></p><p>    <em> Yes\, CEUs will be offered! We will provide certificat
 es for earned CEUs. Washington University cannot guarantee that CEUs earned
  will be approved by the attendee’s state regulatory body.</em></p><p><stro
 ng>Will there be WUPT Merch?</strong></p><p>  <em>  Yes! We're working with
  our students to have WUPT merchandise available for sale. </em></p><h5>Her
 e's a peek at our tentative schedule. Some components may change as we buil
 d this event: </h5><p><strong>Saturday\, June 26\, 2021</strong></p><p>9:00
  – 9:30          Welcome and Introduction by Dr. Gammon Earhart</p><p>9:30-
 10:30             Keynote by Dr. Shirley Sahrmann- "The Why\, How and What 
 of Movement System Impairments" </p><p>10:30-11:00          Break</p><p>11:
 00-1:00           <em>Musculoskeletal Track</em>:  UQ: Neck/Thoracic and sh
 oulder</p><p>                                <em>Neuromuscular Track</em>: 
 Association level activity and review of dx  </p><p>1:00-2:00              
 Lunch Break</p><p>2:00- 3:00            Full group discussion. WUPT Curricu
 lum Update and Discussion</p><p>3:00- 5:00             <em>Musculoskeletal 
 Track</em>: Shirley Demo Exam on UQ </p><p>                                
                                UQ Lab with demo exams and breakout groups. 
 </p><p>                                 <em>Neuromuscular Track</em>: DPT i
 nstruction\, Outcome measures\, Patient-centered care</p><p>5:00-6:00      
        Networking/Socializing Breakout Rooms </p><p> </p><p><strong>Sunday\
 , June 27\, 2021</strong></p><p>9-10:15                    <em>Musculoskele
 tal Track</em>: Lumbar spine update and research                           
                                                 <em>Neuromuscular Track</em
 >: Ortho considerations in Neuro Population</p><p>10:15-10:30          Brea
 k</p><p>10:30-12:00          <em>Musculoskeletal Track</em>: Clinical and R
 esearch Updates on the Hip</p><p>                                  <em>Neur
 omuscular Track</em>: Case examples  </p><p>12-12:30                 Group 
 meeting and Adjourn</p>
LOCATION:Virtual
GEO:41.878114;-87.629798
ORGANIZER;CN="Jennifer":MAILTO:jennifer.brown@wustl.edu
URL;VALUE=URI:https://pt.wustl.edu/events/event/alumni-reunion-2021-msi-upd
 ate/
END:VEVENT
BEGIN:VTIMEZONE
TZID:America/Chicago
BEGIN:DAYLIGHT
TZOFFSETFROM:-0600
TZOFFSETTO:-0500
DTSTART:20210314T080000
TZNAME:CDT
END:DAYLIGHT
END:VTIMEZONE
END:VCALENDAR
