BEGIN:VCALENDAR
VERSION:2.0
PRODID:-//Program in Physical Therapy//NONSGML Events//EN
CALSCALE:GREGORIAN
X-ORIGINAL-URL:https://pt.wustl.edu/events/
X-WR-CALDESC:Program in Physical Therapy - Events
BEGIN:VEVENT
UID:20250402T2207Z-1743631629.604-EO-25613-1@10.73.10.167
STATUS:CONFIRMED
DTSTAMP:20260424T230346Z
CREATED:20250402T210345Z
LAST-MODIFIED:20250402T210941Z
DTSTART;VALUE=DATE:20250412
DTEND;VALUE=DATE:20250414
SUMMARY: APTA Pelvic Health Courses
X-ALT-DESC;FMTTYPE=text/html: 
CATEGORIES:Misc. Events
LOCATION:Program in Physical Therapy
GEO:38.637173;-90.257115
ORGANIZER;CN="Kaleigh":MAILTO:kaleigh@wustl.edu
URL;VALUE=URI:https://pt.wustl.edu/events/event/apta-pelvic-health-courses/
END:VEVENT
BEGIN:VTIMEZONE
TZID:America/Chicago
BEGIN:DAYLIGHT
TZOFFSETFROM:-0600
TZOFFSETTO:-0500
DTSTART:20250309T080000
TZNAME:CDT
END:DAYLIGHT
END:VTIMEZONE
END:VCALENDAR
