BEGIN:VCALENDAR
VERSION:2.0
PRODID:-//Program in Physical Therapy//NONSGML Events//EN
CALSCALE:GREGORIAN
X-ORIGINAL-URL:https://pt.wustl.edu/events/
X-WR-CALDESC:Program in Physical Therapy - Events
BEGIN:VEVENT
UID:20160701T1947Z-1467402467.5101-EO-410-1@172.20.65.30
STATUS:CONFIRMED
DTSTAMP:20260417T050215Z
CREATED:20160303T170418Z
LAST-MODIFIED:20160602T030500Z
DTSTART;VALUE=DATE:20160509
DTEND;VALUE=DATE:20160510
SUMMARY: Clinical Experience I begins
X-ALT-DESC;FMTTYPE=text/html: 
CATEGORIES:DPT Event
ORGANIZER;CN="Brian":MAILTO:bmarston@wustl.edu
URL;VALUE=URI:https://pt.wustl.edu/events/event/clinical-experience-i-begin
 s/
END:VEVENT
BEGIN:VTIMEZONE
TZID:America/Chicago
BEGIN:DAYLIGHT
TZOFFSETFROM:-0600
TZOFFSETTO:-0500
DTSTART:20160313T080000
TZNAME:CDT
END:DAYLIGHT
END:VTIMEZONE
END:VCALENDAR
