BEGIN:VCALENDAR
VERSION:2.0
PRODID:-//Program in Physical Therapy//NONSGML Events//EN
CALSCALE:GREGORIAN
X-ORIGINAL-URL:https://pt.wustl.edu/events/
X-WR-CALDESC:Program in Physical Therapy - Events
BEGIN:VEVENT
UID:20160701T1947Z-1467402467.6564-EO-1391-1@172.20.65.30
STATUS:CONFIRMED
DTSTAMP:20260420T141353Z
CREATED:20160613T150918Z
LAST-MODIFIED:20160713T170738Z
DTSTART;TZID=America/Chicago:20160926T080000
DTEND;TZID=America/Chicago:20160926T083000
SUMMARY: Clinical Experience IV begins
X-ALT-DESC;FMTTYPE=text/html: 
ORGANIZER;CN="Alisa":MAILTO:acooperstein@wustl.edu
URL;VALUE=URI:https://pt.wustl.edu/events/event/clinical-experience-iv-begi
 ns/
END:VEVENT
BEGIN:VTIMEZONE
TZID:America/Chicago
BEGIN:DAYLIGHT
TZOFFSETFROM:-0600
TZOFFSETTO:-0500
DTSTART:20160313T080000
TZNAME:CDT
END:DAYLIGHT
END:VTIMEZONE
END:VCALENDAR
