BEGIN:VCALENDAR
VERSION:2.0
PRODID:-//Program in Physical Therapy//NONSGML Events//EN
CALSCALE:GREGORIAN
X-ORIGINAL-URL:https://pt.wustl.edu/events/
X-WR-CALDESC:Program in Physical Therapy - Events
BEGIN:VEVENT
UID:20210930T1651Z-1633020711.9195-EO-18385-1@172.23.128.19
STATUS:CONFIRMED
DTSTAMP:20260417T050209Z
CREATED:20210930T163504Z
LAST-MODIFIED:20210930T163504Z
DTSTART;TZID=America/Chicago:20211030T081500
DTEND;TZID=America/Chicago:20211030T130000
SUMMARY: DPT Open House
DESCRIPTION: Please join us to explore our Doctor of Physical Therapy progr
 am to see Physical Therapy is the career for you. This event will provide y
 ou with information on prerequisites\, application process\, our curriculum
  and the Human Movement System approach. Meet our faculty\, current student
 s and staff and see our state-of-the art facilities. Let us show […]
X-ALT-DESC;FMTTYPE=text/html: <div id="cc-block4_container" class="blockCon
 tainer"><div id="cc-block4_container" class="blockContainer"><div id="cc-bl
 ock4" class="cc-block"><p>Please join us to explore our Doctor of Physical 
 Therapy program to see Physical Therapy is the career for you. This event w
 ill provide you with information on prerequisites\, application process\, o
 ur curriculum and the Human Movement System approach. Meet our faculty\, cu
 rrent students and staff and see our state-of-the art facilities. Let us sh
 ow you how we are advancing human health through movement.</p><p>You may at
 tend this event either on-campus or virtually. Due to limited seating on-ca
 mpus\, only one guest per registrant allowed. This event fills up quickly. 
 Reserve your seat today!</p><p><a href="https://events.r20.constantcontact.
 com/register/eventReg?oeidk=a07eilqkojm20a397f3&oseq=&c=&ch=">Register for 
  On-Campus Open House</a></p><p><a href="https://wustl.az1.qualtrics.com/jf
 e/form/SV_aVmtWdgUxnyybTE">Register for Virtual Open House</a></p></div></d
 iv></div><h3 id="evm-lcol-title-when"><span title="">Tentative Schedule</sp
 an></h3><p>8:15 am         Check-in/Registration </p><p>8:30 am         Wel
 come from Drs. Gammon Earhart\, PT\, PhD\, Associate Dean and Director\;<br
  />                        Steve Ambler\, PT\, DPT\, PhD\, MPH\, Division D
 irector\, Professional Education\; and<br />                        Tammy B
 urlis\, PT\, DPT\, CCS\, Associate Directgor of Professional Curriculum and
 <br />                        Director of Clinical Education</p><p>9:30 am 
         Break</p><p>9:45 am         Financial Aid – Sarah Oehlerking\, Coor
 dinator of Financial Aid</p><p>10:25 am       Application Process - Sarah R
 ands\, Manager of Admissions</p><p>10:45 am       Last Call and Introductio
 n to Small Group Leaders - Dr. Gammon Earhart</p><p>10:55 am       Break</p
 ><p>11:05 am       Small Groups with Faculty and Current Students</p><p>12:
 05 pm       Optional Break prior to Program Facilities/Medical Campus Tour<
 /p><p>1:05 pm         After tour pick up Grab and Go snack from lobby to ta
 ke with you and to keep us<br />                        COVID compliant.</p
 >
CATEGORIES:DPT Event
ORGANIZER;CN="Jennifer":MAILTO:jennifer.brown@wustl.edu
URL;VALUE=URI:https://pt.wustl.edu/events/event/dpt-open-house-4/
END:VEVENT
BEGIN:VTIMEZONE
TZID:America/Chicago
BEGIN:DAYLIGHT
TZOFFSETFROM:-0600
TZOFFSETTO:-0500
DTSTART:20210314T080000
TZNAME:CDT
END:DAYLIGHT
END:VTIMEZONE
END:VCALENDAR
