BEGIN:VCALENDAR
VERSION:2.0
PRODID:-//Program in Physical Therapy//NONSGML Events//EN
CALSCALE:GREGORIAN
X-ORIGINAL-URL:https://pt.wustl.edu/events/
X-WR-CALDESC:Program in Physical Therapy - Events
BEGIN:VEVENT
UID:20160701T1947Z-1467402467.6927-EO-1389-1@172.20.65.30
STATUS:CONFIRMED
DTSTAMP:20260417T050215Z
CREATED:20160613T150752Z
LAST-MODIFIED:20160613T150752Z
DTSTART;TZID=America/Chicago:20161022T083000
DTEND;TZID=America/Chicago:20161022T143000
SUMMARY: DPT Open House
DESCRIPTION: Prospective students are invited to learn more about our DPT c
 urriculum\, meet our faculty and student.
X-ALT-DESC;FMTTYPE=text/html: <p>Prospective students are invited to learn 
 more about our DPT curriculum\, meet our faculty and student.</p>
CATEGORIES:DPT Event
ORGANIZER;CN="Alisa":MAILTO:acooperstein@wustl.edu
URL;VALUE=URI:https://pt.wustl.edu/events/event/dpt-open-house/
END:VEVENT
BEGIN:VTIMEZONE
TZID:America/Chicago
BEGIN:DAYLIGHT
TZOFFSETFROM:-0600
TZOFFSETTO:-0500
DTSTART:20160313T080000
TZNAME:CDT
END:DAYLIGHT
END:VTIMEZONE
END:VCALENDAR
