BEGIN:VCALENDAR
VERSION:2.0
PRODID:-//Program in Physical Therapy//NONSGML Events//EN
CALSCALE:GREGORIAN
X-ORIGINAL-URL:https://pt.wustl.edu/events/
X-WR-CALDESC:Program in Physical Therapy - Events
BEGIN:VEVENT
UID:20160701T1947Z-1467402467.6841-EO-1392-1@172.20.65.30
STATUS:CONFIRMED
DTSTAMP:20260417T050213Z
CREATED:20160613T150959Z
LAST-MODIFIED:20160805T152256Z
DTSTART;VALUE=DATE:20161003
DTEND;VALUE=DATE:20161005
SUMMARY: DPT Student Fall Break
X-ALT-DESC;FMTTYPE=text/html: 
CATEGORIES:DPT Event
ORGANIZER;CN="Alisa":MAILTO:acooperstein@wustl.edu
URL;VALUE=URI:https://pt.wustl.edu/events/event/dpt-student-fall-break/
END:VEVENT
BEGIN:VTIMEZONE
TZID:America/Chicago
BEGIN:DAYLIGHT
TZOFFSETFROM:-0600
TZOFFSETTO:-0500
DTSTART:20160313T080000
TZNAME:CDT
END:DAYLIGHT
END:VTIMEZONE
END:VCALENDAR
