BEGIN:VCALENDAR
VERSION:2.0
PRODID:-//Program in Physical Therapy//NONSGML Events//EN
CALSCALE:GREGORIAN
X-ORIGINAL-URL:https://pt.wustl.edu/events/
X-WR-CALDESC:Program in Physical Therapy - Events
BEGIN:VEVENT
UID:20160701T1947Z-1467402467.7014-EO-1395-1@172.20.65.30
STATUS:CONFIRMED
DTSTAMP:20260420T191639Z
CREATED:20160613T151723Z
LAST-MODIFIED:20160805T151529Z
DTSTART;VALUE=DATE:20161123
DTEND;VALUE=DATE:20161128
SUMMARY: DPT Student Thanksgiving Break
X-ALT-DESC;FMTTYPE=text/html: 
CATEGORIES:DPT Event
ORGANIZER;CN="Alisa":MAILTO:acooperstein@wustl.edu
URL;VALUE=URI:https://pt.wustl.edu/events/event/dpt-student-thanksgiving-br
 eak/
END:VEVENT
BEGIN:VTIMEZONE
TZID:America/Chicago
BEGIN:STANDARD
TZOFFSETFROM:-0500
TZOFFSETTO:-0600
DTSTART:20161106T070000
TZNAME:CST
END:STANDARD
END:VTIMEZONE
END:VCALENDAR
