BEGIN:VCALENDAR
VERSION:2.0
PRODID:-//Program in Physical Therapy//NONSGML Events//EN
CALSCALE:GREGORIAN
X-ORIGINAL-URL:https://pt.wustl.edu/events/
X-WR-CALDESC:Program in Physical Therapy - Events
BEGIN:VEVENT
UID:20160701T1947Z-1467402467.6634-EO-1268-1@172.20.65.30
STATUS:CONFIRMED
DTSTAMP:20260423T021427Z
CREATED:20160602T141755Z
LAST-MODIFIED:20160613T150224Z
DTSTART;TZID=America/Chicago:20160930T150000
DTEND;TZID=America/Chicago:20160930T170000
SUMMARY: Dr. Shirley Sahrmann Lectureship
DESCRIPTION: Crossroads and Transformation: Maximizing Opportunity of Shoul
 der Movement System Diagnoses Dr. Paula Ludewig Professor\, Physical Therap
 y University of Minnesota Paula Ludewig\, PhD\, PT\, FAPTA\, is a Professor
  at the University of Minnesota in the Programs in Physical Therapy & Rehab
 ilitation Science. She also holds an affiliate appointment in Orthopaedic S
 urgery and a graduate faculty appointment […]
X-ALT-DESC;FMTTYPE=text/html: <h3>Crossroads and Transformation:</h3><h3>Ma
 ximizing Opportunity of Shoulder Movement System Diagnoses</h3><p>Dr. Paula
  Ludewig<br />Professor\, Physical Therapy<br />University of Minnesota</p>
 <p>Paula Ludewig\, PhD\, PT\, FAPTA\, is a Professor at the University of M
 innesota in the Programs in Physical Therapy & Rehabilitation Science. She 
 also holds an affiliate appointment in Orthopaedic Surgery and a graduate f
 aculty appointment in Biomedical Engineering. She received her MA in Physic
 al Therapy and PhD in Exercise Science from the University of Iowa. Her pro
 fessional Physical Therapy degree is from the College of St. Scholastica.  
 Her research and teaching interests are in the area of orthopaedic biomecha
 nics\, with particular interest in movement related mechanisms of injury an
 d rehabilitation approaches for the shoulder. Dr. Ludewig also serves as an
  Associate Editor for the Brazilian Journal of Physical Therapy.</p><p>A re
 ception follows Dr. Ludewig's presentation.  Attendees in the Advanced Move
 ment System Impairment Syndromes course is invited.</p><p>There is no cost 
 to attend this lecture.</p>
CATEGORIES:Continuing Education Course
ORGANIZER;CN="Alisa":MAILTO:acooperstein@wustl.edu
URL;VALUE=URI:https://pt.wustl.edu/events/event/dr-shirley-sahrmann-lecture
 ship/
END:VEVENT
BEGIN:VTIMEZONE
TZID:America/Chicago
BEGIN:DAYLIGHT
TZOFFSETFROM:-0600
TZOFFSETTO:-0500
DTSTART:20160313T080000
TZNAME:CDT
END:DAYLIGHT
END:VTIMEZONE
END:VCALENDAR
