BEGIN:VCALENDAR
VERSION:2.0
PRODID:-//Program in Physical Therapy//NONSGML Events//EN
CALSCALE:GREGORIAN
X-ORIGINAL-URL:https://pt.wustl.edu/events/
X-WR-CALDESC:Program in Physical Therapy - Events
BEGIN:VEVENT
UID:20160701T1947Z-1467402467.4626-EO-404-1@172.20.65.30
STATUS:CONFIRMED
DTSTAMP:20260424T161355Z
CREATED:20160303T165631Z
LAST-MODIFIED:20160406T142856Z
DTSTART;TZID=America/Chicago:20160315T120000
DTEND;TZID=America/Chicago:20160315T130000
SUMMARY: Exploring Stroke Rehabilitation Video Games
DESCRIPTION: Caitlin Kelleher\, PhD Room 2700
X-ALT-DESC;FMTTYPE=text/html: <p>Caitlin Kelleher\, PhD<br />Room 2700</p>
CATEGORIES:Research Seminar
ORGANIZER;CN="Brian":MAILTO:bmarston@wustl.edu
URL;VALUE=URI:https://pt.wustl.edu/events/event/exploring-stroke-rehabilita
 tion-video-games/
END:VEVENT
BEGIN:VTIMEZONE
TZID:America/Chicago
BEGIN:DAYLIGHT
TZOFFSETFROM:-0600
TZOFFSETTO:-0500
DTSTART:20160313T080000
TZNAME:CDT
END:DAYLIGHT
END:VTIMEZONE
END:VCALENDAR
