BEGIN:VCALENDAR
VERSION:2.0
PRODID:-//Program in Physical Therapy//NONSGML Events//EN
CALSCALE:GREGORIAN
X-ORIGINAL-URL:https://pt.wustl.edu/events/
X-WR-CALDESC:Program in Physical Therapy - Events
BEGIN:VEVENT
UID:20180807T1454Z-1533653659.0982-EO-7322-1@172.20.65.30
STATUS:CONFIRMED
DTSTAMP:20260424T135640Z
CREATED:20180807T143855Z
LAST-MODIFIED:20180807T144020Z
DTSTART;TZID=America/Chicago:20181009T120000
DTEND;TZID=America/Chicago:20181009T130000
SUMMARY: Research Seminar – Exploring the complexities of real world upper 
 limb performance after stroke
DESCRIPTION: Exploring the complexities of real world upper limb performanc
 e after stroke Kim Waddell\, PhD Candidate Program in Physical Therapy\, WU
 STL
X-ALT-DESC;FMTTYPE=text/html: <p><strong>Exploring the complexities of real
  world upper limb performance after stroke</strong></p><p>Kim Waddell\, PhD
  Candidate<br />Program in Physical Therapy\, WUSTL</p>
CATEGORIES:Research Seminar
LOCATION:4444 Forest Park Ave\, Room 1235
GEO:38.637173;-90.257115
ORGANIZER;CN="Cory":MAILTO:brantc@wustl.edu
URL;VALUE=URI:https://pt.wustl.edu/events/event/exploring-the-complexities-
 of-real-world-upper-limb-performance-after-stroke/
END:VEVENT
BEGIN:VTIMEZONE
TZID:America/Chicago
BEGIN:DAYLIGHT
TZOFFSETFROM:-0600
TZOFFSETTO:-0500
DTSTART:20180311T080000
TZNAME:CDT
END:DAYLIGHT
END:VTIMEZONE
END:VCALENDAR
