BEGIN:VCALENDAR
VERSION:2.0
PRODID:-//Program in Physical Therapy//NONSGML Events//EN
CALSCALE:GREGORIAN
X-ORIGINAL-URL:https://pt.wustl.edu/events/
X-WR-CALDESC:Program in Physical Therapy - Events
BEGIN:VEVENT
UID:20170620T1755Z-1497981330.8634-EO-4075-1@172.21.70.41
STATUS:CONFIRMED
DTSTAMP:20260422T215524Z
CREATED:20170620T174227Z
LAST-MODIFIED:20170620T220022Z
DTSTART;VALUE=DATE:20170930
DTEND;VALUE=DATE:20171004
SUMMARY: Fall 2017 Advanced Movement System Impairment Syndromes
DESCRIPTION: Registration for the Fall 2017 Advanced Movement System Impair
 ment Syndromes course will open on July 1\, 2017.  Click here for more info
 rmation and the registration link. 
X-ALT-DESC;FMTTYPE=text/html: <p>Registration for the Fall 2017 Advanced Mo
 vement System Impairment Syndromes course will open on July 1\, 2017. </p><
 p><a href="https://pt.wustl.edu/education/movement-system-impairment-syndro
 mes-courses/">Click here for more information and the registration link.</a
 > </p>
LOCATION:Program in Physical Therapy
GEO:38.637173;-90.257115
ORGANIZER;CN="Jennifer":MAILTO:jennifer.brown@wustl.edu
URL;VALUE=URI:https://pt.wustl.edu/events/event/fall-2017-advanced-movement
 -system-impairment-syndromes/
END:VEVENT
BEGIN:VTIMEZONE
TZID:America/Chicago
BEGIN:DAYLIGHT
TZOFFSETFROM:-0600
TZOFFSETTO:-0500
DTSTART:20170312T080000
TZNAME:CDT
END:DAYLIGHT
END:VTIMEZONE
END:VCALENDAR
