BEGIN:VCALENDAR
VERSION:2.0
PRODID:-//Program in Physical Therapy//NONSGML Events//EN
CALSCALE:GREGORIAN
X-ORIGINAL-URL:https://pt.wustl.edu/events/
X-WR-CALDESC:Program in Physical Therapy - Events
BEGIN:VEVENT
UID:20240716T1730Z-1721151033.045-EO-24481-1@172.23.128.18
STATUS:CONFIRMED
DTSTAMP:20260417T050203Z
CREATED:20240716T163953Z
LAST-MODIFIED:20240716T163953Z
DTSTART;VALUE=DATE:20240805
DTEND;VALUE=DATE:20240812
SUMMARY: KLOSE Lymphedema Course
DESCRIPTION: https://www.klosetrainingstore.com/ProductDetails.asp?ProductC
 ode=LTC0824MO
X-ALT-DESC;FMTTYPE=text/html: <p>https://www.klosetrainingstore.com/Product
 Details.asp?ProductCode=LTC0824MO</p>
CATEGORIES:Misc. Events
ORGANIZER;CN="Kaleigh":MAILTO:kaleigh@wustl.edu
URL;VALUE=URI:https://pt.wustl.edu/events/event/klose-lymphedema-course/
END:VEVENT
BEGIN:VTIMEZONE
TZID:America/Chicago
BEGIN:DAYLIGHT
TZOFFSETFROM:-0600
TZOFFSETTO:-0500
DTSTART:20240310T080000
TZNAME:CDT
END:DAYLIGHT
END:VTIMEZONE
END:VCALENDAR
