BEGIN:VCALENDAR
VERSION:2.0
PRODID:-//Program in Physical Therapy//NONSGML Events//EN
CALSCALE:GREGORIAN
X-ORIGINAL-URL:https://pt.wustl.edu/events/
X-WR-CALDESC:Program in Physical Therapy - Events
BEGIN:VEVENT
UID:20170807T2013Z-1502136783.5152-EO-4340-1@172.20.65.30
STATUS:CONFIRMED
DTSTAMP:20260417T050152Z
CREATED:20170807T195936Z
LAST-MODIFIED:20170807T195936Z
DTSTART;TZID=America/Chicago:20170912T120000
DTEND;TZID=America/Chicago:20170912T130000
SUMMARY: Movement-Related Urinary Urgency: Theoretical Framework and Case R
 eport
DESCRIPTION: Tracy Spitznagle\, PT\, DPT\, WCS 4444 Forest Park\, Room 1235
X-ALT-DESC;FMTTYPE=text/html: <p>Tracy Spitznagle\, PT\, DPT\, WCS<br />444
 4 Forest Park\, Room 1235</p>
CATEGORIES:Research Seminar
ORGANIZER;CN="Cory":MAILTO:brantc@wustl.edu
URL;VALUE=URI:https://pt.wustl.edu/events/event/movement-related-urinary-ur
 gency-theoretical-framework-case-report/
END:VEVENT
BEGIN:VTIMEZONE
TZID:America/Chicago
BEGIN:DAYLIGHT
TZOFFSETFROM:-0600
TZOFFSETTO:-0500
DTSTART:20170312T080000
TZNAME:CDT
END:DAYLIGHT
END:VTIMEZONE
END:VCALENDAR
