BEGIN:VCALENDAR
VERSION:2.0
PRODID:-//Program in Physical Therapy//NONSGML Events//EN
CALSCALE:GREGORIAN
X-ORIGINAL-URL:https://pt.wustl.edu/events/
X-WR-CALDESC:Program in Physical Therapy - Events
BEGIN:VEVENT
UID:20180705T1303Z-1530795794.8065-EO-7055-1@172.20.65.30
STATUS:CONFIRMED
DTSTAMP:20260423T223958Z
CREATED:20180705T125749Z
LAST-MODIFIED:20180705T125749Z
DTSTART;VALUE=DATE:20180929
DTEND;VALUE=DATE:20181003
SUMMARY: Movement System Impairment Syndromes Advanced Course
DESCRIPTION: Please visit our MSI Course page for more information.
X-ALT-DESC;FMTTYPE=text/html: <p>Please visit our <a href="https://pt.wustl
 .edu/education/movement-system-impairment-syndromes-courses/">MSI Course pa
 ge</a> for more information.</p>
CATEGORIES:Continuing Education Course
LOCATION:Washington University Program in Physical Therapy
GEO:38.637069;-90.257311
ORGANIZER;CN="Cory":MAILTO:brantc@wustl.edu
URL;VALUE=URI:https://pt.wustl.edu/events/event/movement-system-impairment-
 syndromes-advanced-course/
END:VEVENT
BEGIN:VTIMEZONE
TZID:America/Chicago
BEGIN:DAYLIGHT
TZOFFSETFROM:-0600
TZOFFSETTO:-0500
DTSTART:20180311T080000
TZNAME:CDT
END:DAYLIGHT
END:VTIMEZONE
END:VCALENDAR
