BEGIN:VCALENDAR
VERSION:2.0
PRODID:-//Program in Physical Therapy//NONSGML Events//EN
CALSCALE:GREGORIAN
X-ORIGINAL-URL:https://pt.wustl.edu/events/
X-WR-CALDESC:Program in Physical Therapy - Events
BEGIN:VEVENT
UID:20190430T1619Z-1556641150.8531-EO-8985-1@172.23.128.18
STATUS:CONFIRMED
DTSTAMP:20260422T160718Z
CREATED:20190430T161613Z
LAST-MODIFIED:20190430T161613Z
DTSTART;VALUE=DATE:20190621
DTEND;VALUE=DATE:20190624
SUMMARY: Movement System Impairment Syndromes Course
DESCRIPTION: Dr. Sahrmann will be speaking in Crown Point\, Indiana
X-ALT-DESC;FMTTYPE=text/html: <p>Dr. Sahrmann will be speaking in Crown Poi
 nt\, Indiana</p>
CATEGORIES:Continuing Education Course
ORGANIZER;CN="Cory":MAILTO:brantc@wustl.edu
URL;VALUE=URI:https://pt.wustl.edu/events/event/movement-system-impairment-
 syndromes-course/
END:VEVENT
BEGIN:VTIMEZONE
TZID:America/Chicago
BEGIN:DAYLIGHT
TZOFFSETFROM:-0600
TZOFFSETTO:-0500
DTSTART:20190310T080000
TZNAME:CDT
END:DAYLIGHT
END:VTIMEZONE
END:VCALENDAR
