BEGIN:VCALENDAR
VERSION:2.0
PRODID:-//Program in Physical Therapy//NONSGML Events//EN
CALSCALE:GREGORIAN
X-ORIGINAL-URL:https://pt.wustl.edu/events/
X-WR-CALDESC:Program in Physical Therapy - Events
BEGIN:VEVENT
UID:20180919T1545Z-1537371928.1877-EO-7611-1@172.20.65.30
STATUS:CONFIRMED
DTSTAMP:20260422T160707Z
CREATED:20180919T153018Z
LAST-MODIFIED:20181017T161800Z
DTSTART;VALUE=DATE:20190119
DTEND;VALUE=DATE:20190122
SUMMARY: MSI- Introduction to Lower Quarter Course
DESCRIPTION: Registration Opens on Monday\, October 29\, 2018 at 8:00 am CS
 T
X-ALT-DESC;FMTTYPE=text/html: <p>Registration Opens on Monday\, October 29\
 , 2018 at 8:00 am CST</p>
CATEGORIES:Continuing Education Course
LOCATION:4444 Forest Park Ave\, Room 1235
GEO:38.637173;-90.257115
ORGANIZER;CN="Jennifer":MAILTO:jennifer.brown@wustl.edu
URL;VALUE=URI:https://pt.wustl.edu/events/event/msi-introduction-to-lower-q
 uarter-course/
END:VEVENT
BEGIN:VTIMEZONE
TZID:America/Chicago
BEGIN:STANDARD
TZOFFSETFROM:-0500
TZOFFSETTO:-0600
DTSTART:20181104T070000
TZNAME:CST
END:STANDARD
END:VTIMEZONE
END:VCALENDAR
