BEGIN:VCALENDAR
VERSION:2.0
PRODID:-//Program in Physical Therapy//NONSGML Events//EN
CALSCALE:GREGORIAN
X-ORIGINAL-URL:https://pt.wustl.edu/events/
X-WR-CALDESC:Program in Physical Therapy - Events
BEGIN:VEVENT
UID:20170120T1842Z-1484937732.5859-EO-3042-1@172.20.65.30
STATUS:CONFIRMED
DTSTAMP:20260424T042014Z
CREATED:20170120T183704Z
LAST-MODIFIED:20170131T161807Z
DTSTART;VALUE=DATE:20170408
DTEND;VALUE=DATE:20170410
SUMMARY: MSI Pelvic Pain
DESCRIPTION: Theresa M. Spitznagle\, PT\, DPT\, WCS is providing a MSI Pelv
 ic Pain course on April 8-9. 2017. This is an open course\, please contact 
 Bella Physical Therapy for additional information:    P: 201-791-0008 • F: 
 201-791-7111 • E: info@bellaphysicaltherapy.com
X-ALT-DESC;FMTTYPE=text/html: <p>Theresa M. Spitznagle\, PT\, DPT\, WCS is 
 providing a MSI Pelvic Pain course on April 8-9. 2017. This is an open cour
 se\, please contact Bella Physical Therapy for additional information: </p>
 <p> </p><p>P: 201-791-0008 • F: 201-791-7111 • E: <a href="mailto:info@bell
 aphysicaltherapy.com">info@bellaphysicaltherapy.com</a></p>
CATEGORIES:Continuing Education Course
LOCATION:Bella Physical Therapy
GEO:40.926224;-74.095929
ORGANIZER;CN="Jennifer":MAILTO:jennifer.brown@wustl.edu
URL;VALUE=URI:https://pt.wustl.edu/events/event/msi-pelvic-pain/
END:VEVENT
BEGIN:VTIMEZONE
TZID:America/Chicago
BEGIN:DAYLIGHT
TZOFFSETFROM:-0600
TZOFFSETTO:-0500
DTSTART:20170312T080000
TZNAME:CDT
END:DAYLIGHT
END:VTIMEZONE
END:VCALENDAR
