BEGIN:VCALENDAR
VERSION:2.0
PRODID:-//Program in Physical Therapy//NONSGML Events//EN
CALSCALE:GREGORIAN
X-ORIGINAL-URL:https://pt.wustl.edu/events/
X-WR-CALDESC:Program in Physical Therapy - Events
BEGIN:VEVENT
UID:20231206T2342Z-1701906135.2617-EO-23544-1@172.23.128.18
STATUS:CONFIRMED
DTSTAMP:20260424T131219Z
CREATED:20231206T203545Z
LAST-MODIFIED:20231206T203545Z
DTSTART;TZID=America/Chicago:20240402T121000
DTEND;TZID=America/Chicago:20240402T130000
SUMMARY: Navigating First-Year DPT Student Challenges: Lessons Learned from
  Students and Faculty
DESCRIPTION: 2024 Research Seminar Navigating First-Year DPT Student Challe
 nges: Lessons Learned from Students and Faculty Bill Healey\, PT\, EdD Boar
 d Certified Clinical Specialist in Geriatric Physical Therapy\, Associate P
 rofessor and Associate Chair of Professional Education Department of Physic
 al Therapy and Human Movement Sciences\, Northwestern University\, Feinberg
  School of Medicine
X-ALT-DESC;FMTTYPE=text/html: <p>2024 Research Seminar<br />Navigating Firs
 t-Year DPT Student Challenges: Lessons Learned from Students and Faculty</p
 ><p class="_04xlpA direction-ltr align-start para-style-body"><strong><span
  class="S1PPyQ">Bill Healey\, PT\, EdD<br /></span></strong>Board Certified
  Clinical Specialist in Geriatric Physical Therapy\, Associate Professor an
 d Associate Chair of Professional Education Department of Physical Therapy 
 and Human Movement Sciences\, Northwestern University\, Feinberg School of 
 Medicine</p>
ORGANIZER;CN="Emily":MAILTO:laycob@wustl.edu
URL;VALUE=URI:https://pt.wustl.edu/events/event/navigating-first-year-dpt-s
 tudent-challenges-lessons-learned-from-students-and-faculty/
END:VEVENT
BEGIN:VTIMEZONE
TZID:America/Chicago
BEGIN:DAYLIGHT
TZOFFSETFROM:-0600
TZOFFSETTO:-0500
DTSTART:20240310T080000
TZNAME:CDT
END:DAYLIGHT
END:VTIMEZONE
END:VCALENDAR
