BEGIN:VCALENDAR
VERSION:2.0
PRODID:-//Program in Physical Therapy//NONSGML Events//EN
CALSCALE:GREGORIAN
X-ORIGINAL-URL:https://pt.wustl.edu/events/
X-WR-CALDESC:Program in Physical Therapy - Events
BEGIN:VEVENT
UID:20171215T1704Z-1513357471.2505-EO-5661-1@172.21.70.41
STATUS:CONFIRMED
DTSTAMP:20260417T050150Z
CREATED:20171215T165332Z
LAST-MODIFIED:20171219T171958Z
DTSTART;VALUE=DATE:20181117
DTEND;VALUE=DATE:20181119
SUMMARY: PH Level 3 Hybrid Course
DESCRIPTION: PH Level 3 *Hybrid* course November 17-18\, 2018 Information a
 nd Registration:  http://www.womenshealthapta.org/2018courseschedule/
X-ALT-DESC;FMTTYPE=text/html: <p><strong>PH Level 3 *Hybrid* course</strong
 ></p><p>November 17-18\, 2018</p><p>Information and Registration:  <a href=
 "http://www.womenshealthapta.org/2018courseschedule/" target="_blank" rel="
 noopener">http://www.womenshealthapta.org/2018courseschedule/</a></p>
CATEGORIES:Continuing Education Course
ORGANIZER;CN="Cory":MAILTO:brantc@wustl.edu
URL;VALUE=URI:https://pt.wustl.edu/events/event/ph-level-3-hybrid-course/
END:VEVENT
BEGIN:VTIMEZONE
TZID:America/Chicago
BEGIN:STANDARD
TZOFFSETFROM:-0500
TZOFFSETTO:-0600
DTSTART:20181104T070000
TZNAME:CST
END:STANDARD
END:VTIMEZONE
END:VCALENDAR
