BEGIN:VCALENDAR
VERSION:2.0
PRODID:-//Program in Physical Therapy//NONSGML Events//EN
CALSCALE:GREGORIAN
X-ORIGINAL-URL:https://pt.wustl.edu/events/
X-WR-CALDESC:Program in Physical Therapy - Events
BEGIN:VEVENT
UID:20230425T1956Z-1682452601.7976-EO-22670-1@172.23.128.18
STATUS:CONFIRMED
DTSTAMP:20260417T050205Z
CREATED:20230425T190001Z
LAST-MODIFIED:20230516T202340Z
DTSTART;TZID=America/Chicago:20230515T133000
DTEND;TZID=America/Chicago:20230515T163000
SUMMARY: Program in Physical Therapy Commencement Ceremony 2023
DESCRIPTION: The Washington University Program in Physical Therapy Commence
 ment Ceremony will take place on Monday\, May 15th\, 2023\, at 1:30 p.m. at
  The Chase Park Plaza. Tickets are not required. Seats are available first 
 come\, first served.    
X-ALT-DESC;FMTTYPE=text/html: <p>The Washington University Program in Physi
 cal Therapy Commencement Ceremony will take place on Monday\, May 15th\, 20
 23\, at 1:30 p.m. at The Chase Park Plaza.</p><p>Tickets are not required. 
 Seats are available first come\, first served.</p><p> </p><p> </p>
ORGANIZER;CN="Emily":MAILTO:laycob@wustl.edu
URL;VALUE=URI:https://pt.wustl.edu/events/event/program-in-physical-therapy
 -commencement-ceremony-2023/
END:VEVENT
BEGIN:VTIMEZONE
TZID:America/Chicago
BEGIN:DAYLIGHT
TZOFFSETFROM:-0600
TZOFFSETTO:-0500
DTSTART:20230312T080000
TZNAME:CDT
END:DAYLIGHT
END:VTIMEZONE
END:VCALENDAR
