BEGIN:VCALENDAR
VERSION:2.0
PRODID:-//Program in Physical Therapy//NONSGML Events//EN
CALSCALE:GREGORIAN
X-ORIGINAL-URL:https://pt.wustl.edu/events/
X-WR-CALDESC:Program in Physical Therapy - Events
BEGIN:VEVENT
UID:20220802T2115Z-1659474928.9397-EO-21355-1@172.23.128.18
STATUS:CONFIRMED
DTSTAMP:20260417T050207Z
CREATED:20220802T153812Z
LAST-MODIFIED:20220802T153812Z
DTSTART;TZID=America/Chicago:20221129T121000
DTEND;TZID=America/Chicago:20221129T125500
SUMMARY: Program in Physical Therapy Research Seminar
DESCRIPTION: Effect of Obesity and Insulin Resistance on Glucose and Fatty 
 Acid Metabolism Chao Cao\, MPH\, PhD Candidate\, Movement Science Program P
 rogram in Physical Therapy\, Washington University School of Medicine This 
 seminar is provided online. To receive and invitation to this seminar and f
 uture seminars\, please fill out the request form.
X-ALT-DESC;FMTTYPE=text/html: <p><strong>Effect of Obesity and Insulin Resi
 stance on Glucose and Fatty Acid Metabolism</strong><br />Chao Cao\, MPH\, 
 PhD Candidate\, Movement Science Program<br />Program in Physical Therapy\,
  Washington University School of Medicine</p><p>This seminar is provided on
 line. To receive and invitation to this seminar and future seminars\, pleas
 e fill out the <a href="https://pt.wustl.edu/education/continuing-education
 -for-clinical-instructors/research-seminar-videos-ceus/research-seminar-inv
 itation-request/">request form</a>.</p>
CATEGORIES:Research Seminar
ORGANIZER;CN="Denee":MAILTO:denee@wustl.edu
URL;VALUE=URI:https://pt.wustl.edu/events/event/program-in-physical-therapy
 -research-seminar-14/
END:VEVENT
BEGIN:VTIMEZONE
TZID:America/Chicago
BEGIN:STANDARD
TZOFFSETFROM:-0500
TZOFFSETTO:-0600
DTSTART:20221106T070000
TZNAME:CST
END:STANDARD
END:VTIMEZONE
END:VCALENDAR
