BEGIN:VCALENDAR
VERSION:2.0
PRODID:-//Program in Physical Therapy//NONSGML Events//EN
CALSCALE:GREGORIAN
X-ORIGINAL-URL:https://pt.wustl.edu/events/
X-WR-CALDESC:Program in Physical Therapy - Events
BEGIN:VEVENT
UID:20220210T1623Z-1644510208.7342-EO-19823-1@172.23.128.19
STATUS:CONFIRMED
DTSTAMP:20260421T032939Z
CREATED:20220210T154253Z
LAST-MODIFIED:20220210T154253Z
DTSTART;TZID=America/Chicago:20220222T121000
DTEND;TZID=America/Chicago:20220222T125500
SUMMARY: Program in Physical Therapy Research Seminar
DESCRIPTION: Investigating the Effects of Context and Social Mobility on th
 e Mental Health of Black Americans Darrell Hudson\, PhD\, MPH Faculty Schol
 ar\, Institute for Public Health\; Faculty Chair\, MSW/MPH Program Brown Sc
 hool at Washington University in St. Louis This seminar is provided online.
   To receive an invitation to this seminar and future seminars\, please fil
 l out […]
X-ALT-DESC;FMTTYPE=text/html: <p><strong>Investigating the Effects of Conte
 xt and Social Mobility on the Mental Health of Black Americans</strong><br 
 />Darrell Hudson\, PhD\, MPH<br />Faculty Scholar\, Institute for Public He
 alth\; Faculty Chair\, MSW/MPH Program Brown School at Washington Universit
 y in St. Louis</p><p>This seminar is provided online.  To receive an invita
 tion to this seminar and future seminars\, please fill out the <a href="htt
 ps://pt.wustl.edu/education/continuing-education-for-clinical-instructors/r
 esearch-seminar-videos-ceus/research-seminar-invitation-request/">request f
 orm</a>.</p><p> </p>
CATEGORIES:Research Seminar
ORGANIZER;CN="Denee":MAILTO:denee@wustl.edu
URL;VALUE=URI:https://pt.wustl.edu/events/event/program-in-physical-therapy
 -research-seminar-4/
END:VEVENT
BEGIN:VTIMEZONE
TZID:America/Chicago
BEGIN:STANDARD
TZOFFSETFROM:-0500
TZOFFSETTO:-0600
DTSTART:20211107T070000
TZNAME:CST
END:STANDARD
END:VTIMEZONE
END:VCALENDAR
