BEGIN:VCALENDAR
VERSION:2.0
PRODID:-//Program in Physical Therapy//NONSGML Events//EN
CALSCALE:GREGORIAN
X-ORIGINAL-URL:https://pt.wustl.edu/events/
X-WR-CALDESC:Program in Physical Therapy - Events
BEGIN:VEVENT
UID:20160712T1402Z-1468332159.6902-EO-1779-1@172.20.65.30
STATUS:CONFIRMED
DTSTAMP:20260417T050213Z
CREATED:20160712T132839Z
LAST-MODIFIED:20160804T185024Z
DTSTART;TZID=America/Chicago:20161122T120000
DTEND;TZID=America/Chicago:20161122T130000
SUMMARY: Neural regulation of the skeleton
DESCRIPTION: Erica L. Scheller D.D.S.\, Ph.D. Division of Bone and Mineral 
 Diseases Room 1235
X-ALT-DESC;FMTTYPE=text/html: <p>Erica L. Scheller D.D.S.\, Ph.D.<br />Divi
 sion of Bone and Mineral Diseases</p><p>Room 1235</p>
CATEGORIES:Research Seminar
ORGANIZER;CN="Alisa":MAILTO:acooperstein@wustl.edu
URL;VALUE=URI:https://pt.wustl.edu/events/event/research-seminar-5/
END:VEVENT
BEGIN:VTIMEZONE
TZID:America/Chicago
BEGIN:STANDARD
TZOFFSETFROM:-0500
TZOFFSETTO:-0600
DTSTART:20161106T070000
TZNAME:CST
END:STANDARD
END:VTIMEZONE
END:VCALENDAR
