BEGIN:VCALENDAR
VERSION:2.0
PRODID:-//Program in Physical Therapy//NONSGML Events//EN
CALSCALE:GREGORIAN
X-ORIGINAL-URL:https://pt.wustl.edu/events/
X-WR-CALDESC:Program in Physical Therapy - Events
BEGIN:VEVENT
UID:20180807T1454Z-1533653659.1082-EO-7328-1@172.20.65.30
STATUS:CONFIRMED
DTSTAMP:20260424T201034Z
CREATED:20180807T144224Z
LAST-MODIFIED:20180807T144224Z
DTSTART;TZID=America/Chicago:20181023T120000
DTEND;TZID=America/Chicago:20181023T130000
SUMMARY: Research Seminar – Molecular processes that affect reproductive ou
 tcomes
DESCRIPTION: Molecular processes that affect reproductive outcomes Sarah K.
  England\, PhD Alan A. and Edith L. Wolff Professor of Medicine\; Professor
  of Obstetrics and Gynecology\, WUSM
X-ALT-DESC;FMTTYPE=text/html: <p><strong>Molecular processes that affect re
 productive outcomes</strong></p><p>Sarah K. England\, PhD<br />Alan A. and 
 Edith L. Wolff Professor of Medicine\; Professor of Obstetrics and Gynecolo
 gy\, WUSM</p>
CATEGORIES:Research Seminar
LOCATION:4444 Forest Park Ave\, Room 1235
GEO:38.637173;-90.257115
ORGANIZER;CN="Cory":MAILTO:brantc@wustl.edu
URL;VALUE=URI:https://pt.wustl.edu/events/event/research-seminar-molecular-
 processes-that-affect-reproductive-outcomes/
END:VEVENT
BEGIN:VTIMEZONE
TZID:America/Chicago
BEGIN:DAYLIGHT
TZOFFSETFROM:-0600
TZOFFSETTO:-0500
DTSTART:20180311T080000
TZNAME:CDT
END:DAYLIGHT
END:VTIMEZONE
END:VCALENDAR
