BEGIN:VCALENDAR
VERSION:2.0
PRODID:-//Program in Physical Therapy//NONSGML Events//EN
CALSCALE:GREGORIAN
X-ORIGINAL-URL:https://pt.wustl.edu/events/
X-WR-CALDESC:Program in Physical Therapy - Events
BEGIN:VEVENT
UID:20170113T1632Z-1484325144.5167-EO-3026-1@172.20.65.30
STATUS:CONFIRMED
DTSTAMP:20260417T050210Z
CREATED:20170113T161520Z
LAST-MODIFIED:20170405T194801Z
DTSTART;TZID=America/Chicago:20170508T120000
DTEND;TZID=America/Chicago:20170508T130000
SUMMARY: Research Seminar Series: Effects of acute resistance exercise on l
 ipid metabolism in individuals with pre-diabetes
DESCRIPTION: Adam Bittel\, PhD Candidate Program in Physical Therapy\, Wash
 ington University School of Medicine
X-ALT-DESC;FMTTYPE=text/html: <p>Adam Bittel\, PhD Candidate</p><p>Program 
 in Physical Therapy\, Washington University School of Medicine</p>
CATEGORIES:Research Seminar
LOCATION:4444 Forest Park Ave\, Room 1235
GEO:38.637173;-90.257115
ORGANIZER;CN="Jennifer":MAILTO:jennifer.brown@wustl.edu
URL;VALUE=URI:https://pt.wustl.edu/events/event/research-seminar-series-2/
END:VEVENT
BEGIN:VTIMEZONE
TZID:America/Chicago
BEGIN:DAYLIGHT
TZOFFSETFROM:-0600
TZOFFSETTO:-0500
DTSTART:20170312T080000
TZNAME:CDT
END:DAYLIGHT
END:VTIMEZONE
END:VCALENDAR
