BEGIN:VCALENDAR
VERSION:2.0
PRODID:-//Program in Physical Therapy//NONSGML Events//EN
CALSCALE:GREGORIAN
X-ORIGINAL-URL:https://pt.wustl.edu/events/
X-WR-CALDESC:Program in Physical Therapy - Events
BEGIN:VEVENT
UID:20180103T1632Z-1514997163.6616-EO-5726-1@172.21.70.41
STATUS:CONFIRMED
DTSTAMP:20260417T050156Z
CREATED:20180103T161532Z
LAST-MODIFIED:20180219T171810Z
DTSTART;TZID=America/Chicago:20180327T120000
DTEND;TZID=America/Chicago:20180327T130000
SUMMARY: Clinical Rounds: Concussion Case Study – Coast is Clear?
DESCRIPTION: Cam Jadali\, PT\, DPT\, Clinic Associate Program in Physical T
 herapy\, Washington University in St. Louis
X-ALT-DESC;FMTTYPE=text/html: <p><strong>Cam Jadali\, PT\, DPT\, Clinic Ass
 ociate</strong><br />Program in Physical Therapy\, Washington University in
  St. Louis</p>
CATEGORIES:Research Seminar
LOCATION:4444 Forest Park Ave\, Room 1235
GEO:38.637173;-90.257115
ORGANIZER;CN="Cory":MAILTO:brantc@wustl.edu
URL;VALUE=URI:https://pt.wustl.edu/events/event/research-seminar-series-exp
 loring-complexities-real-world-upper-limb-performance-stroke/
END:VEVENT
BEGIN:VTIMEZONE
TZID:America/Chicago
BEGIN:DAYLIGHT
TZOFFSETFROM:-0600
TZOFFSETTO:-0500
DTSTART:20180311T080000
TZNAME:CDT
END:DAYLIGHT
END:VTIMEZONE
END:VCALENDAR
