BEGIN:VCALENDAR
VERSION:2.0
PRODID:-//Program in Physical Therapy//NONSGML Events//EN
CALSCALE:GREGORIAN
X-ORIGINAL-URL:https://pt.wustl.edu/events/
X-WR-CALDESC:Program in Physical Therapy - Events
BEGIN:VEVENT
UID:20170113T1534Z-1484321683.6029-EO-3008-1@172.20.65.30
STATUS:CONFIRMED
DTSTAMP:20260424T220056Z
CREATED:20170113T151328Z
LAST-MODIFIED:20170120T182637Z
DTSTART;TZID=America/Chicago:20170131T120000
DTEND;TZID=America/Chicago:20170131T130000
SUMMARY: Research Seminar Series: Low back pain in prolonged standing: Alig
 nment and Sensory Processing
DESCRIPTION: Ching-Ting Hwang\, PhD Candidate Program in Physical Therapy\,
  Washington University School of Medicine  
X-ALT-DESC;FMTTYPE=text/html: <p>Ching-Ting Hwang\, PhD Candidate</p><p>Pro
 gram in Physical Therapy\, Washington University School of Medicine</p><p> 
 </p>
CATEGORIES:Research Seminar
LOCATION:4444 Forest Park Ave\, Room 1235
GEO:38.637173;-90.257115
ORGANIZER;CN="Jennifer":MAILTO:jennifer.brown@wustl.edu
URL;VALUE=URI:https://pt.wustl.edu/events/event/research-seminar-series-low
 -back-pain-prolonged-standing-alignment-sensory-processing/
END:VEVENT
BEGIN:VTIMEZONE
TZID:America/Chicago
BEGIN:STANDARD
TZOFFSETFROM:-0500
TZOFFSETTO:-0600
DTSTART:20161106T070000
TZNAME:CST
END:STANDARD
END:VTIMEZONE
END:VCALENDAR
