BEGIN:VCALENDAR
VERSION:2.0
PRODID:-//Program in Physical Therapy//NONSGML Events//EN
CALSCALE:GREGORIAN
X-ORIGINAL-URL:https://pt.wustl.edu/events/
X-WR-CALDESC:Program in Physical Therapy - Events
BEGIN:VEVENT
UID:20170113T1538Z-1484321925.3639-EO-3014-1@172.20.65.30
STATUS:CONFIRMED
DTSTAMP:20260417T050211Z
CREATED:20170113T153716Z
LAST-MODIFIED:20170120T182654Z
DTSTART;TZID=America/Chicago:20170314T120000
DTEND;TZID=America/Chicago:20170314T130000
SUMMARY: Research Seminar Series:
DESCRIPTION: Dan Moran\, PhD Department of Biomedical Engineering\, Washing
 ton University in St. Louis  
X-ALT-DESC;FMTTYPE=text/html: <p>Dan Moran\, PhD</p><p>Department of Biomed
 ical Engineering\, Washington University in St. Louis</p><p> </p>
CATEGORIES:Research Seminar
LOCATION:4444 Forest Park Ave\, Room 1235
GEO:38.637173;-90.257115
ORGANIZER;CN="Jennifer":MAILTO:jennifer.brown@wustl.edu
URL;VALUE=URI:https://pt.wustl.edu/events/event/research-seminar-series/
END:VEVENT
BEGIN:VTIMEZONE
TZID:America/Chicago
BEGIN:DAYLIGHT
TZOFFSETFROM:-0600
TZOFFSETTO:-0500
DTSTART:20170312T080000
TZNAME:CDT
END:DAYLIGHT
END:VTIMEZONE
END:VCALENDAR
