BEGIN:VCALENDAR
VERSION:2.0
PRODID:-//Program in Physical Therapy//NONSGML Events//EN
CALSCALE:GREGORIAN
X-ORIGINAL-URL:https://pt.wustl.edu/events/
X-WR-CALDESC:Program in Physical Therapy - Events
BEGIN:VEVENT
UID:20180807T1454Z-1533653659.1605-EO-7337-1@172.20.65.30
STATUS:CONFIRMED
DTSTAMP:20260424T230338Z
CREATED:20180807T145159Z
LAST-MODIFIED:20180807T145159Z
DTSTART;TZID=America/Chicago:20181204T120000
DTEND;TZID=America/Chicago:20181204T130000
SUMMARY: Research Seminar – Swati Surkar
DESCRIPTION: Swati Surkar\, Program in Physical Therapy\, WUSTL
X-ALT-DESC;FMTTYPE=text/html: <p><strong>Swati Surkar\,<br /></strong>Progr
 am in Physical Therapy\, WUSTL</p>
CATEGORIES:Research Seminar
LOCATION:4444 Forest Park Ave\, Room 1235
GEO:38.637173;-90.257115
ORGANIZER;CN="Cory":MAILTO:brantc@wustl.edu
URL;VALUE=URI:https://pt.wustl.edu/events/event/research-seminar-swati-surk
 ar/
END:VEVENT
BEGIN:VTIMEZONE
TZID:America/Chicago
BEGIN:STANDARD
TZOFFSETFROM:-0500
TZOFFSETTO:-0600
DTSTART:20181104T070000
TZNAME:CST
END:STANDARD
END:VTIMEZONE
END:VCALENDAR
