BEGIN:VCALENDAR
VERSION:2.0
PRODID:-//Program in Physical Therapy//NONSGML Events//EN
CALSCALE:GREGORIAN
X-ORIGINAL-URL:https://pt.wustl.edu/events/
X-WR-CALDESC:Program in Physical Therapy - Events
BEGIN:VEVENT
UID:20160701T1947Z-1467402467.4844-EO-407-1@172.20.65.30
STATUS:CONFIRMED
DTSTAMP:20260421T025148Z
CREATED:20160303T170038Z
LAST-MODIFIED:20160602T030430Z
DTSTART;TZID=America/Chicago:20160402T080000
DTEND;TZID=America/Chicago:20160402T130000
SUMMARY: Run For Research 5K/10K Run
DESCRIPTION: The Run for Research will take place in Tower Grove Park.
X-ALT-DESC;FMTTYPE=text/html: <p>The Run for Research will take place in To
 wer Grove Park.</p>
CATEGORIES:DPT Event
ORGANIZER;CN="Brian":MAILTO:bmarston@wustl.edu
URL;VALUE=URI:https://pt.wustl.edu/events/event/run-for-research-5k10k-run/
END:VEVENT
BEGIN:VTIMEZONE
TZID:America/Chicago
BEGIN:DAYLIGHT
TZOFFSETFROM:-0600
TZOFFSETTO:-0500
DTSTART:20160313T080000
TZNAME:CDT
END:DAYLIGHT
END:VTIMEZONE
END:VCALENDAR
