BEGIN:VCALENDAR
VERSION:2.0
PRODID:-//Program in Physical Therapy//NONSGML Events//EN
CALSCALE:GREGORIAN
X-ORIGINAL-URL:https://pt.wustl.edu/events/
X-WR-CALDESC:Program in Physical Therapy - Events
BEGIN:VEVENT
UID:20170308T1607Z-1488989239.6929-EO-3379-1@172.20.65.30
STATUS:CONFIRMED
DTSTAMP:20260419T081301Z
CREATED:20170308T160035Z
LAST-MODIFIED:20170308T160035Z
DTSTART;TZID=America/Chicago:20170401T080000
DTEND;TZID=America/Chicago:20170401T110000
SUMMARY: Run For Research 5K/10K
DESCRIPTION: The Run for Research will take place in Tower Grove Park
X-ALT-DESC;FMTTYPE=text/html: <p>The Run for Research will take place in To
 wer Grove Park</p>
CATEGORIES:DPT Event
ORGANIZER;CN="Jennifer":MAILTO:jennifer.brown@wustl.edu
URL;VALUE=URI:https://pt.wustl.edu/events/event/run-research-5k10k/
END:VEVENT
BEGIN:VTIMEZONE
TZID:America/Chicago
BEGIN:DAYLIGHT
TZOFFSETFROM:-0600
TZOFFSETTO:-0500
DTSTART:20170312T080000
TZNAME:CDT
END:DAYLIGHT
END:VTIMEZONE
END:VCALENDAR
