BEGIN:VCALENDAR
VERSION:2.0
PRODID:-//Program in Physical Therapy//NONSGML Events//EN
CALSCALE:GREGORIAN
X-ORIGINAL-URL:https://pt.wustl.edu/events/
X-WR-CALDESC:Program in Physical Therapy - Events
BEGIN:VEVENT
UID:20220815T2050Z-1660596627.1184-EO-20936-1@172.23.128.18
STATUS:CONFIRMED
DTSTAMP:20260417T050206Z
CREATED:20220815T192732Z
LAST-MODIFIED:20220815T200927Z
DTSTART;TZID=America/Chicago:20220930T160000
DTEND;TZID=America/Chicago:20220930T170000
SUMMARY: Sahrmann Lectureship: Dr. Gwendolen Jull
DESCRIPTION: The Sahrmann Lectureship will be held on Friday\, September 30
   at 4:00-5:00 PM (Virtual). Dr. Gwendolen Jull\, AO\, MPhty\, PhD\, FACP w
 ill be the guest speaker presenting the lecture titled “Headache Related Ne
 ck Pain – Who should we treat?” Gwen Jull is an Emeritus Professor in Physi
 otherapy at The University of Queensland\, Australia. She is a […]
X-ALT-DESC;FMTTYPE=text/html: <p>The Sahrmann Lectureship will be held on <
 strong>Friday\, September 30  at 4:00-5:00 PM (Virtual)</strong><em>.</em> 
 Dr. Gwendolen Jull\, AO\, MPhty\, PhD\, FACP will be the guest speaker pres
 enting the lecture titled <em>“Headache Related Neck Pain - Who should we t
 reat?</em><em>”</em></p><p>Gwen Jull is an Emeritus Professor in Physiother
 apy at The University of Queensland\, Australia. She is a specialist muscul
 oskeletal physiotherapist and Fellow of the Australian College of Physiothe
 rapists. Her career has combined teaching\, research and clinical practice.
  Her research has been concerned with the diagnosis and management of idiop
 athic neck pain\, headache and whiplash associated disorders and quantifyin
 g the dysfunction in the cervical motor system. Her most recent research ha
 s investigated the relationship between headache associated neck pain and c
 ervical musculoskeletal dysfunction. Gwen has taught nationally and interna
 tionally and has published over 300 articles\, 40 book chapters as well as 
 three text books\, the most recent being the 2019 text ‘Management of neck 
 pain disorders: A research informed approach Elsevier\, UK’. Gwen is also t
 he co-editor of the international journal\, Musculoskeletal Science and Pra
 ctice.</p><p><strong>This lecture is provided online. To receive and invita
 tion to this lecture\, please fill out the <a href="https://pt.wustl.edu/sa
 hrmann-lecture-invitation-request/">request form</a>.</strong></p>
CATEGORIES:Sahrmann Lectureship
ORGANIZER;CN="Denee":MAILTO:denee@wustl.edu
URL;VALUE=URI:https://pt.wustl.edu/events/event/sahrmann-lectureship-2/
END:VEVENT
BEGIN:VTIMEZONE
TZID:America/Chicago
BEGIN:DAYLIGHT
TZOFFSETFROM:-0600
TZOFFSETTO:-0500
DTSTART:20220313T080000
TZNAME:CDT
END:DAYLIGHT
END:VTIMEZONE
END:VCALENDAR
