BEGIN:VCALENDAR
VERSION:2.0
PRODID:-//Program in Physical Therapy//NONSGML Events//EN
CALSCALE:GREGORIAN
X-ORIGINAL-URL:https://pt.wustl.edu/events/
X-WR-CALDESC:Program in Physical Therapy - Events
BEGIN:VEVENT
UID:20170913T1809Z-1505326182.0873-EO-4747-1@172.20.65.30
STATUS:CONFIRMED
DTSTAMP:20260420T220731Z
CREATED:20170913T175133Z
LAST-MODIFIED:20180307T152614Z
DTSTART;TZID=America/Chicago:20180424T120000
DTEND;TZID=America/Chicago:20180424T130000
SUMMARY: SJR Lecture – Dr. Samuel Ward: Human Skeletal Muscle Design and Pl
 asticity
DESCRIPTION: Steven J. Rose Lectureship in Movement Science “Human Skeletal
  Muscle Design and Plasticity” Samuel R. Ward\, P.T.\, Ph.D. is a Professor
  in the Departments of Orthopaedic Surgery\, Radiology\, and Bioengineering
  at UC San Diego.  He is also the Vice-Chairman of Orthopaedic Research\, C
 o-Director of the Center for Musculoskeletal Research\, and Director of the
  Muscle Physiology […]
X-ALT-DESC;FMTTYPE=text/html: <p><strong>Steven J. Rose<br /></strong>Lectu
 reship in Movement Science<strong><br /></strong></p><p><em><strong>"Human 
 Skeletal Muscle Design and Plasticity”</strong></em></p><p><strong>Samuel R
 . Ward\, P.T.\, Ph.D.</strong> is a Professor in the Departments of Orthopa
 edic Surgery\, Radiology\, and Bioengineering at UC San Diego.  He is also 
 the Vice-Chairman of Orthopaedic Research\, Co-Director of the Center for M
 usculoskeletal Research\, and Director of the Muscle Physiology Laboratory.
  Dr. Ward is a clinician-scientist and his research program focuses on musc
 uloskeletal design and plasticity.</p>
CATEGORIES:Steven J. Rose Lectureship
LOCATION:4444 Forest Park Ave\, Room 1235
GEO:38.637173;-90.257115
ORGANIZER;CN="Cory":MAILTO:brantc@wustl.edu
URL;VALUE=URI:https://pt.wustl.edu/events/event/sjr-lecture-dr-samuel-ward/
END:VEVENT
BEGIN:VTIMEZONE
TZID:America/Chicago
BEGIN:DAYLIGHT
TZOFFSETFROM:-0600
TZOFFSETTO:-0500
DTSTART:20180311T080000
TZNAME:CDT
END:DAYLIGHT
END:VTIMEZONE
END:VCALENDAR
