BEGIN:VCALENDAR
VERSION:2.0
PRODID:-//Program in Physical Therapy//NONSGML Events//EN
CALSCALE:GREGORIAN
X-ORIGINAL-URL:https://pt.wustl.edu/events/
X-WR-CALDESC:Program in Physical Therapy - Events
BEGIN:VEVENT
UID:20230130T1749Z-1675100989.0069-EO-22251-1@172.23.128.18
STATUS:CONFIRMED
DTSTAMP:20260417T050206Z
CREATED:20230130T171302Z
LAST-MODIFIED:20230130T171302Z
DTSTART;TZID=America/Chicago:20230207T121000
DTEND;TZID=America/Chicago:20230207T130000
SUMMARY: Tracking functional tissue behavior with wearable technologies- Al
 ex Reiter\, PhD Postdoctoral Research Associate
DESCRIPTION: 2023 Research Seminar Tracking functional tissue behavior with
  wearable technologies Alex Reiter\, PhD Postdoctoral Research Associate Ne
 uromuscular Biomechanics Lab\; University of Wisconsin-Madison  
X-ALT-DESC;FMTTYPE=text/html: <p>2023 Research Seminar<br /><span class="S1
 PPyQ">Tracking functional tissue behavior with wearable technologies<br /><
 /span></p><p class="_04xlpA direction-ltr align-start para-style-body"><str
 ong><span class="S1PPyQ">Alex Reiter\, PhD<br /></span></strong><span class
 ="S1PPyQ" style="font-size: 1.125rem\;">Postdoctoral Research Associate<br 
 />Neuromuscular Biomechanics Lab\;</span> <span class="S1PPyQ" style="font-
 size: 1.125rem\;">University of Wisconsin-Madison</span></p><p> </p>
CATEGORIES:Research Seminar
LOCATION:Virtual
GEO:41.878114;-87.629798
ORGANIZER;CN="Jennifer":MAILTO:jennifer.brown@wustl.edu
URL;VALUE=URI:https://pt.wustl.edu/events/event/tracking-functional-tissue-
 behavior-with-wearable-technologies-alex-reiter-phd-postdoctoral-research-a
 ssociate/
END:VEVENT
BEGIN:VTIMEZONE
TZID:America/Chicago
BEGIN:STANDARD
TZOFFSETFROM:-0500
TZOFFSETTO:-0600
DTSTART:20221106T070000
TZNAME:CST
END:STANDARD
END:VTIMEZONE
END:VCALENDAR
