BEGIN:VCALENDAR
VERSION:2.0
PRODID:-//Program in Physical Therapy//NONSGML Events//EN
CALSCALE:GREGORIAN
X-ORIGINAL-URL:https://pt.wustl.edu/events/
X-WR-CALDESC:Program in Physical Therapy - Events
BEGIN:VEVENT
UID:20251126T0025Z-1764116705.9291-EO-26651-1@10.73.9.89
STATUS:CONFIRMED
DTSTAMP:20260423T194238Z
CREATED:20251125T201205Z
LAST-MODIFIED:20251125T201205Z
DTSTART;TZID=America/Chicago:20260204T150000
DTEND;TZID=America/Chicago:20260204T190000
SUMMARY: WashU Medicine Physical Therapy Career Fair
DESCRIPTION: Connect with exceptional Doctor of Physical Therapy (DPT) stud
 ents preparing to enter the workforce. The WashU Medicine Physical Therapy 
 Career Fair brings together top PT talent from WashU Medicine\, Saint Louis
  University\, and Maryville University. This event offers organizations the
  opportunity to meet qualified candidates seeking full-time\, part-time\, P
 RN\, and residency or fellowship positions. Registration […]
X-ALT-DESC;FMTTYPE=text/html: <p data-start="506" data-end="934">Connect wi
 th exceptional Doctor of Physical Therapy (DPT) students preparing to enter
  the workforce. The WashU Medicine Physical Therapy Career Fair brings toge
 ther top PT talent from WashU Medicine\, Saint Louis University\, and Maryv
 ille University. This event offers organizations the opportunity to meet qu
 alified candidates seeking full-time\, part-time\, PRN\, and residency or f
 ellowship positions.</p><p data-start="936" data-end="962"><strong data-sta
 rt="936" data-end="960">Registration Details</strong></p><ul data-start="96
 3" data-end="1335"><li data-start="963" data-end="998"><p data-start="965" 
 data-end="998"><strong data-start="965" data-end="974">Cost:</strong> $200 
 per organization</p></li><li data-start="999" data-end="1143"><p data-start
 ="1001" data-end="1143"><strong data-start="1001" data-end="1014">Included:
 </strong> Registration for up to two recruiters\, one 6-foot table with cha
 irs\, dinner\, and recognition in student-facing event materials</p></li><l
 i data-start="1144" data-end="1189"><p data-start="1146" data-end="1189"><s
 trong data-start="1146" data-end="1172">Additional Recruiters:</strong> $50
  per person</p></li><li data-start="1190" data-end="1237"><p data-start="11
 92" data-end="1237"><strong data-start="1192" data-end="1218">Registration 
 Deadline:</strong> January 20\, 2026</p></li><li data-start="1238" data-end
 ="1335"><p data-start="1240" data-end="1335"><strong data-start="1240" data
 -end="1258">Refund Policy:</strong> Full refunds available through January 
 20\, 2026. No refunds after this date.</p></li></ul><p><a href="https://com
 merce.cashnet.com/WASHUPTCF" target="_blank" rel="noopener">REGISTER HERE</
 a></p><p data-start="1337" data-end="1585"><strong data-start="1337" data-e
 nd="1358">Who Should Attend</strong><br data-start="1358" data-end="1361" /
 >Hospitals\, outpatient clinics\, rehab facilities\, pediatric practices\, 
 sports and performance centers\, home health organizations\, and other empl
 oyers seeking to hire DPT graduates or promote residency and fellowship pro
 grams.</p><p data-start="1587" data-end="1863"><strong data-start="1587" da
 ta-end="1605">What to Expect</strong><br data-start="1605" data-end="1608" 
 />• Direct access to students from three regional DPT programs<br data-star
 t="1668" data-end="1671" />• Opportunities to promote your organization’s o
 penings and programs<br data-start="1739" data-end="1742" />• A dedicated r
 ecruitment environment designed for meaningful conversation<br data-start="
 1816" data-end="1819" />• Dinner provided for attending recruiters</p><p da
 ta-start="1865" data-end="2002"><strong data-start="1865" data-end="1879">Q
 uestions?</strong><br data-start="1879" data-end="1882" />Please contact:<b
 r />Jenny Brown<br />Senior Manager\, Marketing Services<br />WashU Medicin
 e Program in Physical Therapy<br /><a href="mailto:jennifer.brown@wustl.edu
 ">jennifer.brown@wustl.edu</a></p>
CATEGORIES:DPT Event,Misc. Events
LOCATION:Washington University Program in Physical Therapy
GEO:38.637069;-90.257311
ORGANIZER;CN="Jennifer":MAILTO:jennifer.brown@wustl.edu
URL;VALUE=URI:https://pt.wustl.edu/events/event/washu-dpt-careerfair/
END:VEVENT
BEGIN:VTIMEZONE
TZID:America/Chicago
BEGIN:STANDARD
TZOFFSETFROM:-0500
TZOFFSETTO:-0600
DTSTART:20251102T070000
TZNAME:CST
END:STANDARD
END:VTIMEZONE
END:VCALENDAR
