BEGIN:VCALENDAR
VERSION:2.0
PRODID:-//Program in Physical Therapy//NONSGML Events//EN
CALSCALE:GREGORIAN
X-ORIGINAL-URL:https://pt.wustl.edu/events/
X-WR-CALDESC:Program in Physical Therapy - Events
BEGIN:VEVENT
UID:20230823T1637Z-1692808650.4827-EO-23144-1@172.23.128.18
STATUS:CONFIRMED
DTSTAMP:20260423T061601Z
CREATED:20230823T152357Z
LAST-MODIFIED:20230829T182949Z
DTSTART;TZID=America/Chicago:20230908T150000
DTEND;TZID=America/Chicago:20230908T160000
SUMMARY: White Coat Ceremony PT26
DESCRIPTION: This years White Coat Ceremony will held at the Eric P. Newman
  Education Center. The ceremony will be followed by a small reception in th
 e lobby.
X-ALT-DESC;FMTTYPE=text/html: <p>Join us as the Washington University Progr
 am in Physical Therapy class of 2026 formally embarks on their journey as p
 hysical therapists at the 8<sup>th</sup> Annual White Coat Ceremony\, held 
 in the Eric P. Newman Center. </p><p>For those unable to attend in person\,
  we're thrilled to offer a live-stream of the ceremony. To be part of this 
 experience\, simply follow the provided link. The live-stream will commence
  approximately ten minutes prior to the official start of the ceremony.</p>
 <p>Live-stream link: </p><p><a href="https://wustl-hipaa.zoom.us/j/96784801
 479?pwd=K1Q3YmRUcTJ2NWM4bTRuYmZNYUp1UT09">https://wustl-hipaa.zoom.us/j/967
 84801479?pwd=K1Q3YmRUcTJ2NWM4bTRuYmZNYUp1UT09</a></p><p>Passcode: Aud0908</
 p><p> </p><p> </p>
ORGANIZER;CN="Emily":MAILTO:laycob@wustl.edu
URL;VALUE=URI:https://pt.wustl.edu/events/event/white-coat-ceremony-pt25/
END:VEVENT
BEGIN:VTIMEZONE
TZID:America/Chicago
BEGIN:DAYLIGHT
TZOFFSETFROM:-0600
TZOFFSETTO:-0500
DTSTART:20230312T080000
TZNAME:CDT
END:DAYLIGHT
END:VTIMEZONE
END:VCALENDAR
